BEGIN:VCALENDAR
VERSION:2.0
PRODID:-//Chelsea First United Methodist Church - ECPv6.15.20//NONSGML v1.0//EN
CALSCALE:GREGORIAN
METHOD:PUBLISH
X-WR-CALNAME:Chelsea First United Methodist Church
X-ORIGINAL-URL:https://chelseaumc.org
X-WR-CALDESC:Events for Chelsea First United Methodist Church
REFRESH-INTERVAL;VALUE=DURATION:PT1H
X-Robots-Tag:noindex
X-PUBLISHED-TTL:PT1H
BEGIN:VTIMEZONE
TZID:America/Detroit
BEGIN:DAYLIGHT
TZOFFSETFROM:-0500
TZOFFSETTO:-0400
TZNAME:EDT
DTSTART:20250309T070000
END:DAYLIGHT
BEGIN:STANDARD
TZOFFSETFROM:-0400
TZOFFSETTO:-0500
TZNAME:EST
DTSTART:20251102T060000
END:STANDARD
BEGIN:DAYLIGHT
TZOFFSETFROM:-0500
TZOFFSETTO:-0400
TZNAME:EDT
DTSTART:20260308T070000
END:DAYLIGHT
BEGIN:STANDARD
TZOFFSETFROM:-0400
TZOFFSETTO:-0500
TZNAME:EST
DTSTART:20261101T060000
END:STANDARD
BEGIN:DAYLIGHT
TZOFFSETFROM:-0500
TZOFFSETTO:-0400
TZNAME:EDT
DTSTART:20270314T070000
END:DAYLIGHT
BEGIN:STANDARD
TZOFFSETFROM:-0400
TZOFFSETTO:-0500
TZNAME:EST
DTSTART:20271107T060000
END:STANDARD
END:VTIMEZONE
BEGIN:VEVENT
DTSTART;VALUE=DATE:20260108
DTEND;VALUE=DATE:20260131
DTSTAMP:20260419T175527
CREATED:20260108T145612Z
LAST-MODIFIED:20260108T164331Z
UID:10008429-1767830400-1769817599@chelseaumc.org
SUMMARY:Mission Trip Opportunity
DESCRIPTION:March 1 – 5\, Augusta Georgia\n\nChelsea is forming a team with other Michigan United Methodist Churches for a mission trip to Augusta\, Georgia\, from March 1 to 5. Volunteers will serve alongside families and communities still recovering from Hurricane Helen. If attending\, please register by Friday\, January 30. No special skills required. A willing heart and helping hands matter most.\n\nQuestions or interest. Contact Rev. Gasaway with questions at rgasaway@chelseaumc.org or sign up HERE
URL:https://chelseaumc.org/event/mission-trip-opportunity/
CATEGORIES:Adult Ministries,Children's Ministry,Missions,Special Event,Youth Ministries
ATTACH;FMTTYPE=image/png:https://chelseaumc.org/wp-content/uploads/2026/01/GA-Mission-trip-spring-2026.png
END:VEVENT
END:VCALENDAR