BEGIN:VCALENDAR
VERSION:2.0
PRODID:-//Chelsea First United Methodist Church - ECPv6.15.20//NONSGML v1.0//EN
CALSCALE:GREGORIAN
METHOD:PUBLISH
X-WR-CALNAME:Chelsea First United Methodist Church
X-ORIGINAL-URL:https://chelseaumc.org
X-WR-CALDESC:Events for Chelsea First United Methodist Church
REFRESH-INTERVAL;VALUE=DURATION:PT1H
X-Robots-Tag:noindex
X-PUBLISHED-TTL:PT1H
BEGIN:VTIMEZONE
TZID:America/Detroit
BEGIN:DAYLIGHT
TZOFFSETFROM:-0500
TZOFFSETTO:-0400
TZNAME:EDT
DTSTART:20250309T070000
END:DAYLIGHT
BEGIN:STANDARD
TZOFFSETFROM:-0400
TZOFFSETTO:-0500
TZNAME:EST
DTSTART:20251102T060000
END:STANDARD
BEGIN:DAYLIGHT
TZOFFSETFROM:-0500
TZOFFSETTO:-0400
TZNAME:EDT
DTSTART:20260308T070000
END:DAYLIGHT
BEGIN:STANDARD
TZOFFSETFROM:-0400
TZOFFSETTO:-0500
TZNAME:EST
DTSTART:20261101T060000
END:STANDARD
BEGIN:DAYLIGHT
TZOFFSETFROM:-0500
TZOFFSETTO:-0400
TZNAME:EDT
DTSTART:20270314T070000
END:DAYLIGHT
BEGIN:STANDARD
TZOFFSETFROM:-0400
TZOFFSETTO:-0500
TZNAME:EST
DTSTART:20271107T060000
END:STANDARD
END:VTIMEZONE
BEGIN:VEVENT
DTSTART;TZID=America/Detroit:20260201T100000
DTEND;TZID=America/Detroit:20260201T110000
DTSTAMP:20260419T140355
CREATED:20260126T154548Z
LAST-MODIFIED:20260223T134655Z
UID:10008485-1769940000-1769943600@chelseaumc.org
SUMMARY:Lecture & Discussion:  What are Christian Options for Change\, Protest\, or Resistance?
DESCRIPTION:What Are Christian Options for Change\, Protest\, or Resistance?\nA 4-Week Lecture & Discussion Series | Sundays\, 10–11 a.m. | Room 207 \nIn times of tension or injustice\, how should people of faith respond? What does our Christian tradition say about protest\, resistance\, and the pursuit of change? \nJoin us for a five-week series facilitated by Gene Utke\, exploring biblical teachings\, Methodist principles\, and the moral questions surrounding Christian approaches to conflict and social change. Each session will include both a lecture and guided discussion\, helping us reflect on what it means to live faithfully in a complex world. \nSchedule:\nFeb 8 – The Bible\, Jesus\, and Other Religions’ Beliefs on Passive Non-Violence\nFeb 15 – Current Methodist Social Principles on Non-Violence\, War\, and Protest\nFeb 22 – The Christian Just War Concept: Is It Still Relevant Today?\nMarch 1 – Civil Disobedience: Is It Christian?\nAll are welcome to attend—bring your questions\, your curiosity\, and your courage.
URL:https://chelseaumc.org/event/lecture-discussion-what-are-christian-options-for-change-protest-or-resistance/
CATEGORIES:Adult Ministries,Missions,Social Justice,Special Event
ATTACH;FMTTYPE=image/png:https://chelseaumc.org/wp-content/uploads/2026/01/Week-4.png
END:VEVENT
BEGIN:VEVENT
DTSTART;TZID=America/Detroit:20260202T183000
DTEND;TZID=America/Detroit:20260202T200000
DTSTAMP:20260419T140355
CREATED:20260108T144132Z
LAST-MODIFIED:20260108T144445Z
UID:10008421-1770057000-1770062400@chelseaumc.org
SUMMARY:Parenting Group - Building Resilience in Children & Teens
DESCRIPTION:Our Parenting Group will resume\, and we will start the year with a great book:\nBuilding Resilience in Children and Teens by Kenneth R. Ginsburg with Martha M. Jablow.\nOver 8 weeks\, we will explore how to raise children that can be emotionally strong\, connected\, and rooted in love\, grounded in faith\, grace\, and community.\nBuilding Resilience in Children and Teens is a practical\, strength-based guide for adults who are raising\, teaching\, mentoring\, or caring for young people. The authors remind us that resilience can be taught and strengthened—it’s not something children either have or don’t have. Centered on the Seven Cs of Resilience\, the book offers everyday tools to help children meet challenges with confidence\, connection\, and hope as they grow.  This group is a supportive space for parents and caregivers to learn together\, share honestly\, and be reminded that we don’t do this work alone. \nMeeting Dates:\nFebruary 2\, 9\, 16\, 23\nMarch 2\, 9\, 16\, 23\nTime: 6:30–7:30 PM\nLocation: Room 207\nChild Care: Provided \nYou may also join online via Zoom. To receive the Zoom link\, please email Susan Adam-Rita. All parents and caregivers are welcome.
URL:https://chelseaumc.org/event/9911/2026-02-02/
CATEGORIES:Adult Ministries,Children's Ministry,Special Event
ATTACH;FMTTYPE=image/png:https://chelseaumc.org/wp-content/uploads/2026/01/Feb-Mar-Parent-Book-Study-newsletter.png
END:VEVENT
BEGIN:VEVENT
DTSTART;TZID=America/Detroit:20260202T184500
DTEND;TZID=America/Detroit:20260202T201500
DTSTAMP:20260419T140355
CREATED:20251120T144322Z
LAST-MODIFIED:20251215T133613Z
UID:10008333-1770057900-1770063300@chelseaumc.org
SUMMARY:Monday Night Bible Study - Doubt by Adam Hamilton
DESCRIPTION:Wrestling with Doubt\, Finding Faith by Adam Hamilton \nMonday Night Bible Study January 12 – February 16\, 2026 \nYou are warmly invited to join a new study on Monday evenings in the new year. Using Rev. Adam Hamilton’s book Wrestling with Doubt\, Finding Faith\, we will explore a variety of matters of faith. \nThe first is: does your faith make room for questions? Everyone has doubts. Where is God when bad things happen? Does God hear our prayers? Is there a heaven? How can we know? Often we treat such questions as the enemy of faith. But uncertainty doesn’t mean our belief is lacking. Doubt can be a path to a deeper\, richer encounter with God. \nIn his book\, author and pastor Adam Hamilton discusses some of our most significant sources of doubt and shows how a steady trust in God can emerge from them. We will delve into questions like: “Does God exist? How can I know?” “Is the Bible true?” “Why do prayers go unanswered?” \nHamilton approaches these sources of doubt with honesty and insight\, drawing on the rich wisdom of the Bible\, Christian tradition\, and his experience walking with thousands of people on their spiritual journey. Whether you’re a longtime Christian or someone brand new to faith\, this book will be a resource as we reach for a trust in God that is unafraid of hard questions. Wrestle with doubt and find faith—belief and trust\, not certainty; mystery rather than simple answers. \nThis class welcomes participants by Zoom and in-person. You may purchase a copy of the book from your favorite book seller.  This class begins Monday\, January 12\, 6:45-8:15 pm and will continue through February 16. Please Sign up Here or contact Max Plank\, Dawn Goellner or Joy Barrett. 
URL:https://chelseaumc.org/event/monday-night-bible-study-doubt-by-adam-hamilton/2026-02-02/
CATEGORIES:Adult Ministries,Special Event
ATTACH;FMTTYPE=image/png:https://chelseaumc.org/wp-content/uploads/2025/11/Monday-Bible-fullsize.png
END:VEVENT
BEGIN:VEVENT
DTSTART;TZID=America/Detroit:20260205T130000
DTEND;TZID=America/Detroit:20260205T143000
DTSTAMP:20260419T140355
CREATED:20251230T135711Z
LAST-MODIFIED:20260309T125637Z
UID:10008359-1770296400-1770301800@chelseaumc.org
SUMMARY:Women's Bible Study
DESCRIPTION:Thursday Afternoon Women’s Bible Study\nDate:  Thursdays\, Jan 8 – Mar 26\nTime: 1:00 – 2:30 PM\, Room 207\n\nAll are welcome to attend!
URL:https://chelseaumc.org/event/womens-bible-study-unlikely-heroes-of-faith/2026-02-05/
CATEGORIES:Adult Ministries,Special Event
ATTACH;FMTTYPE=image/png:https://chelseaumc.org/wp-content/uploads/2025/12/Womens-Bible-Study-2026-1.png
END:VEVENT
END:VCALENDAR