BEGIN:VCALENDAR
VERSION:2.0
PRODID:-//Chelsea First United Methodist Church - ECPv6.15.20//NONSGML v1.0//EN
CALSCALE:GREGORIAN
METHOD:PUBLISH
X-ORIGINAL-URL:https://chelseaumc.org
X-WR-CALDESC:Events for Chelsea First United Methodist Church
REFRESH-INTERVAL;VALUE=DURATION:PT1H
X-Robots-Tag:noindex
X-PUBLISHED-TTL:PT1H
BEGIN:VTIMEZONE
TZID:America/Detroit
BEGIN:DAYLIGHT
TZOFFSETFROM:-0500
TZOFFSETTO:-0400
TZNAME:EDT
DTSTART:20250309T070000
END:DAYLIGHT
BEGIN:STANDARD
TZOFFSETFROM:-0400
TZOFFSETTO:-0500
TZNAME:EST
DTSTART:20251102T060000
END:STANDARD
BEGIN:DAYLIGHT
TZOFFSETFROM:-0500
TZOFFSETTO:-0400
TZNAME:EDT
DTSTART:20260308T070000
END:DAYLIGHT
BEGIN:STANDARD
TZOFFSETFROM:-0400
TZOFFSETTO:-0500
TZNAME:EST
DTSTART:20261101T060000
END:STANDARD
BEGIN:DAYLIGHT
TZOFFSETFROM:-0500
TZOFFSETTO:-0400
TZNAME:EDT
DTSTART:20270314T070000
END:DAYLIGHT
BEGIN:STANDARD
TZOFFSETFROM:-0400
TZOFFSETTO:-0500
TZNAME:EST
DTSTART:20271107T060000
END:STANDARD
END:VTIMEZONE
BEGIN:VEVENT
DTSTART;VALUE=DATE:20260108
DTEND;VALUE=DATE:20260131
DTSTAMP:20260419T171506
CREATED:20260108T145612Z
LAST-MODIFIED:20260108T164331Z
UID:10008429-1767830400-1769817599@chelseaumc.org
SUMMARY:Mission Trip Opportunity
DESCRIPTION:March 1 – 5\, Augusta Georgia\n\nChelsea is forming a team with other Michigan United Methodist Churches for a mission trip to Augusta\, Georgia\, from March 1 to 5. Volunteers will serve alongside families and communities still recovering from Hurricane Helen. If attending\, please register by Friday\, January 30. No special skills required. A willing heart and helping hands matter most.\n\nQuestions or interest. Contact Rev. Gasaway with questions at rgasaway@chelseaumc.org or sign up HERE
URL:https://chelseaumc.org/event/mission-trip-opportunity/
CATEGORIES:Adult Ministries,Children's Ministry,Missions,Special Event,Youth Ministries
ATTACH;FMTTYPE=image/png:https://chelseaumc.org/wp-content/uploads/2026/01/GA-Mission-trip-spring-2026.png
END:VEVENT
BEGIN:VEVENT
DTSTART;TZID=America/Detroit:20260126T184500
DTEND;TZID=America/Detroit:20260126T201500
DTSTAMP:20260419T171506
CREATED:20251120T144322Z
LAST-MODIFIED:20251215T133613Z
UID:10008332-1769453100-1769458500@chelseaumc.org
SUMMARY:Monday Night Bible Study - Doubt by Adam Hamilton
DESCRIPTION:Wrestling with Doubt\, Finding Faith by Adam Hamilton \nMonday Night Bible Study January 12 – February 16\, 2026 \nYou are warmly invited to join a new study on Monday evenings in the new year. Using Rev. Adam Hamilton’s book Wrestling with Doubt\, Finding Faith\, we will explore a variety of matters of faith. \nThe first is: does your faith make room for questions? Everyone has doubts. Where is God when bad things happen? Does God hear our prayers? Is there a heaven? How can we know? Often we treat such questions as the enemy of faith. But uncertainty doesn’t mean our belief is lacking. Doubt can be a path to a deeper\, richer encounter with God. \nIn his book\, author and pastor Adam Hamilton discusses some of our most significant sources of doubt and shows how a steady trust in God can emerge from them. We will delve into questions like: “Does God exist? How can I know?” “Is the Bible true?” “Why do prayers go unanswered?” \nHamilton approaches these sources of doubt with honesty and insight\, drawing on the rich wisdom of the Bible\, Christian tradition\, and his experience walking with thousands of people on their spiritual journey. Whether you’re a longtime Christian or someone brand new to faith\, this book will be a resource as we reach for a trust in God that is unafraid of hard questions. Wrestle with doubt and find faith—belief and trust\, not certainty; mystery rather than simple answers. \nThis class welcomes participants by Zoom and in-person. You may purchase a copy of the book from your favorite book seller.  This class begins Monday\, January 12\, 6:45-8:15 pm and will continue through February 16. Please Sign up Here or contact Max Plank\, Dawn Goellner or Joy Barrett. 
URL:https://chelseaumc.org/event/monday-night-bible-study-doubt-by-adam-hamilton/2026-01-26/
CATEGORIES:Adult Ministries,Special Event
ATTACH;FMTTYPE=image/png:https://chelseaumc.org/wp-content/uploads/2025/11/Monday-Bible-fullsize.png
END:VEVENT
BEGIN:VEVENT
DTSTART;TZID=America/Detroit:20260129T130000
DTEND;TZID=America/Detroit:20260129T143000
DTSTAMP:20260419T171506
CREATED:20251230T135711Z
LAST-MODIFIED:20260309T125637Z
UID:10008358-1769691600-1769697000@chelseaumc.org
SUMMARY:Women's Bible Study
DESCRIPTION:Thursday Afternoon Women’s Bible Study\nDate:  Thursdays\, Jan 8 – Mar 26\nTime: 1:00 – 2:30 PM\, Room 207\n\nAll are welcome to attend!
URL:https://chelseaumc.org/event/womens-bible-study-unlikely-heroes-of-faith/2026-01-29/
CATEGORIES:Adult Ministries,Special Event
ATTACH;FMTTYPE=image/png:https://chelseaumc.org/wp-content/uploads/2025/12/Womens-Bible-Study-2026-1.png
END:VEVENT
END:VCALENDAR